Package: flowPlots Version: 1.54.0 Command: /home/biocbuild/R/R/bin/R CMD INSTALL flowPlots StartedAt: 2025-02-03 20:21:20 -0000 (Mon, 03 Feb 2025) EndedAt: 2025-02-03 20:21:29 -0000 (Mon, 03 Feb 2025) EllapsedTime: 9.0 seconds RetCode: 0 Status: OK