Package: flowPloidy Version: 1.34.0 Command: /Library/Frameworks/R.framework/Resources/bin/R CMD INSTALL flowPloidy StartedAt: 2025-05-08 15:22:52 -0400 (Thu, 08 May 2025) EndedAt: 2025-05-08 15:23:13 -0400 (Thu, 08 May 2025) EllapsedTime: 20.7 seconds RetCode: 0 Status: OK