Package: flowPloidy Version: 1.34.0 Command: /Library/Frameworks/R.framework/Resources/bin/R CMD build --keep-empty-dirs --no-resave-data flowPloidy StartedAt: 2025-05-12 19:39:39 -0400 (Mon, 12 May 2025) EndedAt: 2025-05-12 19:40:41 -0400 (Mon, 12 May 2025) EllapsedTime: 61.7 seconds RetCode: 0 Status: OK PackageFile: flowPloidy_1.34.0.tar.gz PackageFileSize: 2.332 MiB