Package: flowPloidy Version: 1.34.0 Command: /Library/Frameworks/R.framework/Resources/bin/R CMD build --keep-empty-dirs --no-resave-data flowPloidy StartedAt: 2025-05-16 00:00:48 -0400 (Fri, 16 May 2025) EndedAt: 2025-05-16 00:01:19 -0400 (Fri, 16 May 2025) EllapsedTime: 31.5 seconds RetCode: 1 Status: ERROR PackageFile: None PackageFileSize: NA