Package: flowMerge Version: 2.56.0 Command: /Library/Frameworks/R.framework/Resources/bin/R CMD INSTALL flowMerge StartedAt: 2025-05-08 16:35:32 -0400 (Thu, 08 May 2025) EndedAt: 2025-05-08 16:36:21 -0400 (Thu, 08 May 2025) EllapsedTime: 48.5 seconds RetCode: 0 Status: OK