Package: flowMerge Version: 2.56.0 Command: rm -rf flowMerge.buildbin-libdir && mkdir flowMerge.buildbin-libdir && /Users/biocbuild/BBS/utils/build-universal.sh flowMerge_2.56.0.tar.gz /Library/Frameworks/R.framework/Resources/bin/R flowMerge.buildbin-libdir StartedAt: 2025-05-09 12:20:45 -0400 (Fri, 09 May 2025) EndedAt: 2025-05-09 12:21:38 -0400 (Fri, 09 May 2025) EllapsedTime: 52.3 seconds RetCode: 0 Status: OK PackageFile: flowMerge_2.56.0.tgz PackageFileSize: 1.055 MiB