Package: flowMerge Version: 2.56.0 Command: /home/biocbuild/R/R/bin/R CMD build --keep-empty-dirs --no-resave-data flowMerge StartedAt: 2025-05-13 00:42:00 -0000 (Tue, 13 May 2025) EndedAt: 2025-05-13 00:42:55 -0000 (Tue, 13 May 2025) EllapsedTime: 55.0 seconds RetCode: 0 Status: OK PackageFile: flowMerge_2.56.0.tar.gz PackageFileSize: 569.3 KiB