Package: flowMerge Version: 2.56.0 Command: /Library/Frameworks/R.framework/Resources/bin/R CMD check --install=check:flowMerge.install-out.txt --library=/Library/Frameworks/R.framework/Resources/library --no-vignettes --timings flowMerge_2.56.0.tar.gz StartedAt: 2025-05-13 19:44:59 -0400 (Tue, 13 May 2025) EndedAt: 2025-05-13 19:46:45 -0400 (Tue, 13 May 2025) EllapsedTime: 106.8 seconds RetCode: 0 Status: WARNINGS CheckDir: flowMerge.Rcheck Warnings: 1