Package: flowMeans Version: 1.66.0 Command: /Library/Frameworks/R.framework/Resources/bin/R CMD INSTALL flowMeans StartedAt: 2025-01-02 15:19:15 -0500 (Thu, 02 Jan 2025) EndedAt: 2025-01-02 15:19:57 -0500 (Thu, 02 Jan 2025) EllapsedTime: 42.4 seconds RetCode: 0 Status: OK