Package: flowGate Version: 1.6.0 Command: /home/biocbuild/R/R/bin/R CMD check --install=check:flowGate.install-out.txt --library=/home/biocbuild/R/R/site-library --no-vignettes --timings flowGate_1.6.0.tar.gz StartedAt: 2025-01-31 06:19:45 -0000 (Fri, 31 Jan 2025) EndedAt: 2025-01-31 06:21:26 -0000 (Fri, 31 Jan 2025) EllapsedTime: 101.1 seconds RetCode: 0 Status: OK CheckDir: flowGate.Rcheck Warnings: 0