Package: flowGate Version: 1.8.0 Command: /Library/Frameworks/R.framework/Resources/bin/R CMD INSTALL flowGate StartedAt: 2025-05-05 15:58:07 -0400 (Mon, 05 May 2025) EndedAt: 2025-05-05 15:58:37 -0400 (Mon, 05 May 2025) EllapsedTime: 30.6 seconds RetCode: 0 Status: OK