Package: flowGate Version: 1.8.0 Command: /home/biocbuild/R/R/bin/R CMD INSTALL flowGate StartedAt: 2025-05-08 20:53:47 -0000 (Thu, 08 May 2025) EndedAt: 2025-05-08 20:54:05 -0000 (Thu, 08 May 2025) EllapsedTime: 17.4 seconds RetCode: 0 Status: OK