Package: flowGate Version: 1.8.0 Command: /home/biocbuild/R/R/bin/R CMD check --install=check:flowGate.install-out.txt --library=/home/biocbuild/R/R/site-library --no-vignettes --timings flowGate_1.8.0.tar.gz StartedAt: 2025-05-09 08:45:37 -0000 (Fri, 09 May 2025) EndedAt: 2025-05-09 08:47:24 -0000 (Fri, 09 May 2025) EllapsedTime: 106.1 seconds RetCode: 0 Status: OK CheckDir: flowGate.Rcheck Warnings: 0