Package: flowGate Version: 1.8.0 Command: /home/biocbuild/R/R/bin/R CMD build --keep-empty-dirs --no-resave-data flowGate StartedAt: 2025-05-09 00:47:04 -0000 (Fri, 09 May 2025) EndedAt: 2025-05-09 00:47:41 -0000 (Fri, 09 May 2025) EllapsedTime: 37.0 seconds RetCode: 0 Status: OK PackageFile: flowGate_1.8.0.tar.gz PackageFileSize: 2.082 MiB