Package: flowFP Version: 1.64.0 Command: rm -rf flowFP.buildbin-libdir && mkdir flowFP.buildbin-libdir && F:\biocbuild\bbs-3.20-bioc\R\bin\R.exe CMD INSTALL --build --library=flowFP.buildbin-libdir flowFP_1.64.0.tar.gz StartedAt: 2025-02-04 08:30:29 -0500 (Tue, 04 Feb 2025) EndedAt: 2025-02-04 08:31:19 -0500 (Tue, 04 Feb 2025) EllapsedTime: 50.2 seconds RetCode: 0 Status: OK PackageFile: flowFP_1.64.0.zip PackageFileSize: 5.525 MiB