Package: flowFP Version: 1.64.0 Command: /home/biocbuild/bbs-3.20-bioc/R/bin/R CMD check --install=check:flowFP.install-out.txt --library=/home/biocbuild/bbs-3.20-bioc/R/site-library --timings flowFP_1.64.0.tar.gz StartedAt: 2025-02-03 22:26:08 -0500 (Mon, 03 Feb 2025) EndedAt: 2025-02-03 22:27:40 -0500 (Mon, 03 Feb 2025) EllapsedTime: 92.1 seconds RetCode: 0 Status: OK CheckDir: flowFP.Rcheck Warnings: 0