Package: flowFP Version: 1.64.0 Command: /Library/Frameworks/R.framework/Resources/bin/R CMD INSTALL flowFP StartedAt: 2025-01-30 15:24:01 -0500 (Thu, 30 Jan 2025) EndedAt: 2025-01-30 15:24:37 -0500 (Thu, 30 Jan 2025) EllapsedTime: 36.2 seconds RetCode: 0 Status: OK