Package: flowFP Version: 1.64.0 Command: /Library/Frameworks/R.framework/Resources/bin/R CMD check --install=check:flowFP.install-out.txt --library=/Library/Frameworks/R.framework/Resources/library --no-vignettes --timings flowFP_1.64.0.tar.gz StartedAt: 2025-02-04 20:00:37 -0500 (Tue, 04 Feb 2025) EndedAt: 2025-02-04 20:02:28 -0500 (Tue, 04 Feb 2025) EllapsedTime: 110.4 seconds RetCode: 0 Status: WARNINGS CheckDir: flowFP.Rcheck Warnings: 1