Package: flowFP Version: 1.66.0 Command: /Library/Frameworks/R.framework/Resources/bin/R CMD build --keep-empty-dirs --no-resave-data flowFP StartedAt: 2025-04-25 01:34:36 -0400 (Fri, 25 Apr 2025) EndedAt: 2025-04-25 01:35:14 -0400 (Fri, 25 Apr 2025) EllapsedTime: 37.7 seconds RetCode: 0 Status: OK PackageFile: flowFP_1.66.0.tar.gz PackageFileSize: 5.128 MiB