Package: flowDensity Version: 1.42.0 Command: chmod a+r flowDensity -R && E:\biocbuild\bbs-3.21-bioc\R\bin\R.exe CMD build --keep-empty-dirs --no-resave-data flowDensity StartedAt: 2025-08-14 19:09:08 -0400 (Thu, 14 Aug 2025) EndedAt: 2025-08-14 19:09:11 -0400 (Thu, 14 Aug 2025) EllapsedTime: 3.0 seconds RetCode: 0 Status: OK PackageFile: flowDensity_1.42.0.tar.gz PackageFileSize: 4.295 MiB