Package: flowCyBar Version: 1.42.0 Command: /home/biocbuild/R/R/bin/R CMD check --install=check:flowCyBar.install-out.txt --library=/home/biocbuild/R/R/site-library --no-vignettes --timings flowCyBar_1.42.0.tar.gz StartedAt: 2025-01-31 06:19:14 -0000 (Fri, 31 Jan 2025) EndedAt: 2025-01-31 06:20:04 -0000 (Fri, 31 Jan 2025) EllapsedTime: 50.1 seconds RetCode: 0 Status: OK CheckDir: flowCyBar.Rcheck Warnings: 0