Package: flowCut Version: 1.16.0 Command: /home/biocbuild/R/R/bin/R CMD check --install=check:flowCut.install-out.txt --library=/home/biocbuild/R/R/site-library --no-vignettes --timings flowCut_1.16.0.tar.gz StartedAt: 2025-01-31 06:19:07 -0000 (Fri, 31 Jan 2025) EndedAt: 2025-01-31 06:20:38 -0000 (Fri, 31 Jan 2025) EllapsedTime: 91.1 seconds RetCode: 0 Status: OK CheckDir: flowCut.Rcheck Warnings: 0