Package: flowCut Version: 1.18.0 Command: rm -rf flowCut.buildbin-libdir && mkdir flowCut.buildbin-libdir && /Users/biocbuild/BBS/utils/build-universal.sh flowCut_1.18.0.tar.gz /Library/Frameworks/R.framework/Resources/bin/R flowCut.buildbin-libdir StartedAt: 2025-10-14 13:27:57 -0400 (Tue, 14 Oct 2025) EndedAt: 2025-10-14 13:28:32 -0400 (Tue, 14 Oct 2025) EllapsedTime: 35.5 seconds RetCode: 0 Status: OK PackageFile: flowCut_1.18.0.tgz PackageFileSize: 8.061 MiB