Package: flowCore Version: 2.22.0 Command: /home/biocbuild/R/R/bin/R CMD INSTALL flowCore StartedAt: 2025-11-17 21:18:37 -0000 (Mon, 17 Nov 2025) EndedAt: 2025-11-17 21:19:45 -0000 (Mon, 17 Nov 2025) EllapsedTime: 68.3 seconds RetCode: 0 Status: OK