Package: flowCore Version: 2.22.0 Command: /home/biocbuild/R/R/bin/R CMD build --keep-empty-dirs --no-resave-data flowCore StartedAt: 2025-11-18 01:39:19 -0000 (Tue, 18 Nov 2025) EndedAt: 2025-11-18 01:41:09 -0000 (Tue, 18 Nov 2025) EllapsedTime: 110.1 seconds RetCode: 0 Status: OK PackageFile: flowCore_2.22.0.tar.gz PackageFileSize: 7.439 MiB