Package: flowCore Version: 2.18.0 Command: F:\biocbuild\bbs-3.20-bioc\R\bin\R.exe CMD INSTALL flowCore StartedAt: 2025-01-30 15:41:42 -0500 (Thu, 30 Jan 2025) EndedAt: 2025-01-30 15:44:15 -0500 (Thu, 30 Jan 2025) EllapsedTime: 153.1 seconds RetCode: 0 Status: OK