Package: flowCore Version: 2.22.0 Command: /home/biocbuild/bbs-3.22-bioc/R/bin/R CMD INSTALL flowCore StartedAt: 2025-11-17 17:13:29 -0500 (Mon, 17 Nov 2025) EndedAt: 2025-11-17 17:14:11 -0500 (Mon, 17 Nov 2025) EllapsedTime: 42.2 seconds RetCode: 0 Status: OK