Package: flowCore Version: 2.22.0 Command: /home/biocbuild/bbs-3.22-bioc/R/bin/R CMD build --keep-empty-dirs --no-resave-data --md5 flowCore StartedAt: 2025-11-17 21:01:48 -0500 (Mon, 17 Nov 2025) EndedAt: 2025-11-17 21:03:04 -0500 (Mon, 17 Nov 2025) EllapsedTime: 76.1 seconds RetCode: 0 Status: OK PackageFile: flowCore_2.22.0.tar.gz PackageFileSize: 7.461 MiB