Package: flowCore Version: 2.20.0 Command: /home/biocbuild/bbs-3.21-bioc/R/bin/R CMD INSTALL flowCore StartedAt: 2025-10-15 15:12:13 -0400 (Wed, 15 Oct 2025) EndedAt: 2025-10-15 15:12:55 -0400 (Wed, 15 Oct 2025) EllapsedTime: 42.0 seconds RetCode: 0 Status: OK