Package: flowCore Version: 2.18.0 Command: rm -rf flowCore.buildbin-libdir && mkdir flowCore.buildbin-libdir && /Users/biocbuild/BBS/utils/build-universal.sh flowCore_2.18.0.tar.gz /Library/Frameworks/R.framework/Resources/bin/R flowCore.buildbin-libdir StartedAt: 2025-01-31 12:48:47 -0500 (Fri, 31 Jan 2025) EndedAt: 2025-01-31 12:50:31 -0500 (Fri, 31 Jan 2025) EllapsedTime: 104.3 seconds RetCode: 0 Status: OK PackageFile: flowCore_2.18.0.tgz PackageFileSize: 8.174 MiB