Package: flowCore Version: 2.20.0 Command: /Library/Frameworks/R.framework/Resources/bin/R CMD INSTALL flowCore StartedAt: 2025-04-21 15:12:53 -0400 (Mon, 21 Apr 2025) EndedAt: 2025-04-21 15:13:40 -0400 (Mon, 21 Apr 2025) EllapsedTime: 46.7 seconds RetCode: 0 Status: OK