Package: flowCore Version: 2.18.0 Command: /home/biocbuild/R/R/bin/R CMD INSTALL flowCore StartedAt: 2024-11-19 20:38:49 -0000 (Tue, 19 Nov 2024) EndedAt: 2024-11-19 20:40:01 -0000 (Tue, 19 Nov 2024) EllapsedTime: 71.7 seconds RetCode: 0 Status: OK