Package: flowCore Version: 2.20.0 Command: /Library/Frameworks/R.framework/Resources/bin/R CMD INSTALL flowCore StartedAt: 2025-04-21 15:06:50 -0400 (Mon, 21 Apr 2025) EndedAt: 2025-04-21 15:07:04 -0400 (Mon, 21 Apr 2025) EllapsedTime: 14.4 seconds RetCode: 0 Status: OK