Package: flowClust Version: 3.46.0 Command: chmod a+r flowClust -R && E:\biocbuild\bbs-3.21-bioc\R\bin\R.exe CMD build --keep-empty-dirs --no-resave-data flowClust StartedAt: 2025-08-14 19:07:57 -0400 (Thu, 14 Aug 2025) EndedAt: 2025-08-14 19:09:33 -0400 (Thu, 14 Aug 2025) EllapsedTime: 96.1 seconds RetCode: 0 Status: OK PackageFile: flowClust_3.46.0.tar.gz PackageFileSize: 1.592 MiB