Package: flowClust Version: 3.44.0 Command: /Library/Frameworks/R.framework/Resources/bin/R CMD check --install=check:flowClust.install-out.txt --library=/Library/Frameworks/R.framework/Resources/library --no-vignettes --timings flowClust_3.44.0.tar.gz StartedAt: 2025-01-03 03:42:33 -0500 (Fri, 03 Jan 2025) EndedAt: 2025-01-03 03:50:55 -0500 (Fri, 03 Jan 2025) EllapsedTime: 502.7 seconds RetCode: 0 Status: WARNINGS CheckDir: flowClust.Rcheck Warnings: 2