Package: flowClean Version: 1.46.0 Command: chmod a+r flowClean -R && E:\biocbuild\bbs-3.21-bioc\R\bin\R.exe CMD build --keep-empty-dirs --no-resave-data flowClean StartedAt: 2025-08-14 19:07:44 -0400 (Thu, 14 Aug 2025) EndedAt: 2025-08-14 19:14:07 -0400 (Thu, 14 Aug 2025) EllapsedTime: 383.0 seconds RetCode: 0 Status: OK PackageFile: flowClean_1.46.0.tar.gz PackageFileSize: 4.59 MiB