Package: flowClean Version: 1.46.0 Command: /Library/Frameworks/R.framework/Resources/bin/R CMD INSTALL flowClean StartedAt: 2025-05-12 15:32:08 -0400 (Mon, 12 May 2025) EndedAt: 2025-05-12 15:32:17 -0400 (Mon, 12 May 2025) EllapsedTime: 8.6 seconds RetCode: 0 Status: OK