Package: flowCHIC Version: 1.42.0 Maintainer: Author: Joachim Schumann MaintainerEmail: joachim.schumann at ufz.de git_url: https://git.bioconductor.org/packages/flowCHIC git_branch: RELEASE_3_21 git_last_commit: 6fc189b git_last_commit_date: 2025-04-15 10:35:31 -0400 (Tue, 15 Apr 2025)