Package: fishpond Version: 2.12.0 Command: /home/biocbuild/R/R/bin/R CMD build --keep-empty-dirs --no-resave-data fishpond StartedAt: 2025-01-30 23:36:57 -0000 (Thu, 30 Jan 2025) EndedAt: 2025-01-30 23:42:28 -0000 (Thu, 30 Jan 2025) EllapsedTime: 331.1 seconds RetCode: 0 Status: OK PackageFile: fishpond_2.12.0.tar.gz PackageFileSize: 2.463 MiB