| Back to Multiple platform build/check report for BioC 3.21: simplified long | 
 | 
This page was generated on 2025-10-16 11:36 -0400 (Thu, 16 Oct 2025).
| Hostname | OS | Arch (*) | R version | Installed pkgs | 
|---|---|---|---|---|
| nebbiolo1 | Linux (Ubuntu 24.04.3 LTS) | x86_64 | 4.5.1 (2025-06-13) -- "Great Square Root" | 4833 | 
| merida1 | macOS 12.7.6 Monterey | x86_64 | 4.5.1 RC (2025-06-05 r88288) -- "Great Square Root" | 4614 | 
| kjohnson1 | macOS 13.7.5 Ventura | arm64 | 4.5.1 Patched (2025-06-14 r88325) -- "Great Square Root" | 4555 | 
| kunpeng2 | Linux (openEuler 24.03 LTS) | aarch64 | R Under development (unstable) (2025-02-19 r87757) -- "Unsuffered Consequences" | 4586 | 
| Click on any hostname to see more info about the system (e.g. compilers) (*) as reported by 'uname -p', except on Windows and Mac OS X | ||||
| To the developers/maintainers of the fgsea package: - Allow up to 24 hours (and sometimes 48 hours) for your latest push to git@git.bioconductor.org:packages/fgsea.git to reflect on this report. See Troubleshooting Build Report for more information. - Use the following Renviron settings to reproduce errors and warnings. - If 'R CMD check' started to fail recently on the Linux builder(s) over a missing dependency, add the missing dependency to 'Suggests:' in your DESCRIPTION file. See Renviron.bioc for more information. | 
| Package 727/2341 | Hostname | OS / Arch | INSTALL | BUILD | CHECK | BUILD BIN | ||||||||
| fgsea 1.34.2  (landing page) Alexey Sergushichev 
 | nebbiolo1 | Linux (Ubuntu 24.04.3 LTS) / x86_64 | OK | OK | OK |  | ||||||||
| merida1 | macOS 12.7.6 Monterey / x86_64 | OK | OK | OK | OK |  | ||||||||
| kjohnson1 | macOS 13.7.5 Ventura / arm64 | OK | OK | OK | OK |  | ||||||||
| kunpeng2 | Linux (openEuler 24.03 LTS) / aarch64 | OK | ERROR | skipped | ||||||||||
| QUICK STATS | OS / Arch | INSTALL | BUILD | CHECK | BUILD BIN | |||||||||||||||||
| nebbiolo1 | Linux (Ubuntu 24.04.3 LTS) / x86_64 | 
 | 
 | 
 | ||||||||||||||||||
| merida1 | macOS 12.7.6 Monterey / x86_64 | 
 | 
 | 
 | 
 | |||||||||||||||||
| kjohnson1 | macOS 13.7.5 Ventura / arm64 | 
 | 
 | 
 | 
 | |||||||||||||||||
| kunpeng2 | Linux (openEuler 24.03 LTS) / aarch64 | 
 | 
 | 
 | ||||||||||||||||||
| Package 1/31 | Hostname | OS / Arch | INSTALL | BUILD | CHECK | BUILD BIN | ||||||||||||||||
| BioNAR 1.10.0  (landing page) Anatoly Sorokin 
 | nebbiolo1 | Linux (Ubuntu 24.04.3 LTS) / x86_64 | OK | OK | ERROR | |||||||||||||||||
| merida1 | macOS 12.7.6 Monterey / x86_64 | OK | OK | ERROR | OK | |||||||||||||||||
| kjohnson1 | macOS 13.7.5 Ventura / arm64 | OK | OK | ERROR | OK | |||||||||||||||||
| kunpeng2 | Linux (openEuler 24.03 LTS) / aarch64 | OK | ERROR | skipped | ||||||||||||||||||
| Package 2/31 | Hostname | OS / Arch | INSTALL | BUILD | CHECK | BUILD BIN | ||||||||||||||||
| CelliD 1.16.0  (landing page) Akira Cortal 
 | nebbiolo1 | Linux (Ubuntu 24.04.3 LTS) / x86_64 | OK | OK | WARNINGS |  | ||||||||||||||||
| merida1 | macOS 12.7.6 Monterey / x86_64 | OK | OK | WARNINGS | OK |  | ||||||||||||||||
| kjohnson1 | macOS 13.7.5 Ventura / arm64 | OK | OK | WARNINGS | OK |  | ||||||||||||||||
| kunpeng2 | Linux (openEuler 24.03 LTS) / aarch64 | OK | OK | WARNINGS | ||||||||||||||||||
| Package 3/31 | Hostname | OS / Arch | INSTALL | BUILD | CHECK | BUILD BIN | ||||||||||||||||
| CEMiTool 1.32.2  (landing page) Helder Nakaya 
 | nebbiolo1 | Linux (Ubuntu 24.04.3 LTS) / x86_64 | OK | OK | OK |  | ||||||||||||||||
| merida1 | macOS 12.7.6 Monterey / x86_64 | OK | OK | OK | OK |  | ||||||||||||||||
| kjohnson1 | macOS 13.7.5 Ventura / arm64 | OK | OK | OK | OK |  | ||||||||||||||||
| kunpeng2 | Linux (openEuler 24.03 LTS) / aarch64 | OK | OK | OK | ||||||||||||||||||
| Package 4/31 | Hostname | OS / Arch | INSTALL | BUILD | CHECK | BUILD BIN | ||||||||||||||||
| clustifyr 1.20.0  (landing page) Rui Fu 
 | nebbiolo1 | Linux (Ubuntu 24.04.3 LTS) / x86_64 | OK | OK | OK |  | ||||||||||||||||
| merida1 | macOS 12.7.6 Monterey / x86_64 | OK | OK | OK | OK |  | ||||||||||||||||
| kjohnson1 | macOS 13.7.5 Ventura / arm64 | OK | OK | OK | OK |  | ||||||||||||||||
| kunpeng2 | Linux (openEuler 24.03 LTS) / aarch64 | OK | OK | OK | ||||||||||||||||||
| Package 5/31 | Hostname | OS / Arch | INSTALL | BUILD | CHECK | BUILD BIN | ||||||||||||||||
| CoGAPS 3.28.0  (landing page) Elana J. Fertig 
 | nebbiolo1 | Linux (Ubuntu 24.04.3 LTS) / x86_64 | OK | OK | OK |  | ||||||||||||||||
| merida1 | macOS 12.7.6 Monterey / x86_64 | OK | OK | OK | OK |  | ||||||||||||||||
| kjohnson1 | macOS 13.7.5 Ventura / arm64 | OK | OK | OK | OK |  | ||||||||||||||||
| kunpeng2 | Linux (openEuler 24.03 LTS) / aarch64 | OK | OK | OK | ||||||||||||||||||
| Package 6/31 | Hostname | OS / Arch | INSTALL | BUILD | CHECK | BUILD BIN | ||||||||||||||||
| cTRAP 1.26.0  (landing page) Nuno Saraiva-Agostinho 
 | nebbiolo1 | Linux (Ubuntu 24.04.3 LTS) / x86_64 | OK | OK | OK |  | ||||||||||||||||
| merida1 | macOS 12.7.6 Monterey / x86_64 | OK | OK | OK | OK |  | ||||||||||||||||
| kjohnson1 | macOS 13.7.5 Ventura / arm64 | OK | OK | OK | OK |  | ||||||||||||||||
| kunpeng2 | Linux (openEuler 24.03 LTS) / aarch64 | OK | OK | OK | ||||||||||||||||||
| Package 7/31 | Hostname | OS / Arch | INSTALL | BUILD | CHECK | BUILD BIN | ||||||||||||||||
| DeepTarget 1.2.0  (landing page) Trinh Nguyen 
 | nebbiolo1 | Linux (Ubuntu 24.04.3 LTS) / x86_64 | OK | OK | OK |  | ||||||||||||||||
| merida1 | macOS 12.7.6 Monterey / x86_64 | OK | OK | OK | OK |  | ||||||||||||||||
| kjohnson1 | macOS 13.7.5 Ventura / arm64 | OK | OK | OK | OK |  | ||||||||||||||||
| kunpeng2 | Linux (openEuler 24.03 LTS) / aarch64 | OK | OK | OK | ||||||||||||||||||
| Package 8/31 | Hostname | OS / Arch | INSTALL | BUILD | CHECK | BUILD BIN | ||||||||||||||||
| DOSE 4.2.0  (landing page) Guangchuang Yu 
 | nebbiolo1 | Linux (Ubuntu 24.04.3 LTS) / x86_64 | OK | OK | OK |  | ||||||||||||||||
| merida1 | macOS 12.7.6 Monterey / x86_64 | OK | OK | OK | OK |  | ||||||||||||||||
| kjohnson1 | macOS 13.7.5 Ventura / arm64 | OK | OK | OK | OK |  | ||||||||||||||||
| kunpeng2 | Linux (openEuler 24.03 LTS) / aarch64 | OK | OK | OK | ||||||||||||||||||
| Package 9/31 | Hostname | OS / Arch | INSTALL | BUILD | CHECK | BUILD BIN | ||||||||||||||||
| EventPointer 3.16.0  (landing page) Juan A. Ferrer-Bonsoms 
 | nebbiolo1 | Linux (Ubuntu 24.04.3 LTS) / x86_64 | OK | OK | OK |  | ||||||||||||||||
| merida1 | macOS 12.7.6 Monterey / x86_64 | OK | OK | OK | OK |  | ||||||||||||||||
| kjohnson1 | macOS 13.7.5 Ventura / arm64 | OK | OK | OK | OK |  | ||||||||||||||||
| kunpeng2 | Linux (openEuler 24.03 LTS) / aarch64 | OK | OK | OK | ||||||||||||||||||
| Package 10/31 | Hostname | OS / Arch | INSTALL | BUILD | CHECK | BUILD BIN | ||||||||||||||||
| fobitools 1.16.0  (landing page) Pol Castellano-Escuder 
 | nebbiolo1 | Linux (Ubuntu 24.04.3 LTS) / x86_64 | OK | OK | OK |  | ||||||||||||||||
| merida1 | macOS 12.7.6 Monterey / x86_64 | OK | OK | OK | OK |  | ||||||||||||||||
| kjohnson1 | macOS 13.7.5 Ventura / arm64 | OK | OK | OK | OK |  | ||||||||||||||||
| kunpeng2 | Linux (openEuler 24.03 LTS) / aarch64 | OK | OK | OK | ||||||||||||||||||
| Package 11/31 | Hostname | OS / Arch | INSTALL | BUILD | CHECK | BUILD BIN | ||||||||||||||||
| gsean 1.28.0  (landing page) Dongmin Jung 
 | nebbiolo1 | Linux (Ubuntu 24.04.3 LTS) / x86_64 | OK | OK | OK |  | ||||||||||||||||
| merida1 | macOS 12.7.6 Monterey / x86_64 | OK | OK | OK | OK |  | ||||||||||||||||
| kjohnson1 | macOS 13.7.5 Ventura / arm64 | OK | OK | OK | OK |  | ||||||||||||||||
| kunpeng2 | Linux (openEuler 24.03 LTS) / aarch64 | OK | OK | OK | ||||||||||||||||||
| Package 12/31 | Hostname | OS / Arch | INSTALL | BUILD | CHECK | BUILD BIN | ||||||||||||||||
| lipidr 2.22.1  (landing page) Ahmed Mohamed 
 | nebbiolo1 | Linux (Ubuntu 24.04.3 LTS) / x86_64 | OK | OK | OK |  | ||||||||||||||||
| merida1 | macOS 12.7.6 Monterey / x86_64 | OK | OK | OK | OK |  | ||||||||||||||||
| kjohnson1 | macOS 13.7.5 Ventura / arm64 | OK | OK | OK | OK |  | ||||||||||||||||
| kunpeng2 | Linux (openEuler 24.03 LTS) / aarch64 | OK | OK | ERROR | ||||||||||||||||||
| Package 13/31 | Hostname | OS / Arch | INSTALL | BUILD | CHECK | BUILD BIN | ||||||||||||||||
| mCSEA 1.28.0  (landing page) Jordi Martorell-Marugán 
 | nebbiolo1 | Linux (Ubuntu 24.04.3 LTS) / x86_64 | OK | OK | OK |  | ||||||||||||||||
| merida1 | macOS 12.7.6 Monterey / x86_64 | OK | OK | OK | OK |  | ||||||||||||||||
| kjohnson1 | macOS 13.7.5 Ventura / arm64 | OK | OK | OK | OK |  | ||||||||||||||||
| kunpeng2 | Linux (openEuler 24.03 LTS) / aarch64 | OK | OK | OK | ||||||||||||||||||
| Package 14/31 | Hostname | OS / Arch | INSTALL | BUILD | CHECK | BUILD BIN | ||||||||||||||||
| metapone 1.14.0  (landing page) Tianwei Yu 
 | nebbiolo1 | Linux (Ubuntu 24.04.3 LTS) / x86_64 | OK | OK | OK |  | ||||||||||||||||
| merida1 | macOS 12.7.6 Monterey / x86_64 | OK | OK | OK | OK |  | ||||||||||||||||
| kjohnson1 | macOS 13.7.5 Ventura / arm64 | OK | OK | OK | OK |  | ||||||||||||||||
| kunpeng2 | Linux (openEuler 24.03 LTS) / aarch64 | OK | TIMEOUT | skipped | ||||||||||||||||||
| Package 15/31 | Hostname | OS / Arch | INSTALL | BUILD | CHECK | BUILD BIN | ||||||||||||||||
| MIRit 1.4.2  (landing page) Jacopo Ronchi 
 | nebbiolo1 | Linux (Ubuntu 24.04.3 LTS) / x86_64 | OK | OK | OK |  | ||||||||||||||||
| merida1 | macOS 12.7.6 Monterey / x86_64 | OK | OK | OK | OK |  | ||||||||||||||||
| kjohnson1 | macOS 13.7.5 Ventura / arm64 | OK | OK | OK | OK |  | ||||||||||||||||
| kunpeng2 | Linux (openEuler 24.03 LTS) / aarch64 | OK | OK | TIMEOUT | ||||||||||||||||||
| Package 16/31 | Hostname | OS / Arch | INSTALL | BUILD | CHECK | BUILD BIN | ||||||||||||||||
| MPAC 1.2.0  (landing page) Peng Liu 
 | nebbiolo1 | Linux (Ubuntu 24.04.3 LTS) / x86_64 | OK | OK | OK |  | ||||||||||||||||
| merida1 | macOS 12.7.6 Monterey / x86_64 | OK | OK | OK | OK |  | ||||||||||||||||
| kjohnson1 | macOS 13.7.5 Ventura / arm64 | OK | OK | OK | OK |  | ||||||||||||||||
| kunpeng2 | Linux (openEuler 24.03 LTS) / aarch64 | OK | OK | OK | ||||||||||||||||||
| Package 17/31 | Hostname | OS / Arch | INSTALL | BUILD | CHECK | BUILD BIN | ||||||||||||||||
| multiGSEA 1.18.0  (landing page) Sebastian Canzler 
 | nebbiolo1 | Linux (Ubuntu 24.04.3 LTS) / x86_64 | OK | OK | OK |  | ||||||||||||||||
| merida1 | macOS 12.7.6 Monterey / x86_64 | OK | TIMEOUT | skipped | skipped | |||||||||||||||||
| kjohnson1 | macOS 13.7.5 Ventura / arm64 | OK | OK | OK | OK |  | ||||||||||||||||
| kunpeng2 | Linux (openEuler 24.03 LTS) / aarch64 | OK | OK | OK | ||||||||||||||||||
| Package 18/31 | Hostname | OS / Arch | INSTALL | BUILD | CHECK | BUILD BIN | ||||||||||||||||
| NanoTube 1.14.0  (landing page) Caleb Class 
 | nebbiolo1 | Linux (Ubuntu 24.04.3 LTS) / x86_64 | OK | OK | OK |  | ||||||||||||||||
| merida1 | macOS 12.7.6 Monterey / x86_64 | OK | OK | OK | OK |  | ||||||||||||||||
| kjohnson1 | macOS 13.7.5 Ventura / arm64 | OK | OK | OK | OK |  | ||||||||||||||||
| kunpeng2 | Linux (openEuler 24.03 LTS) / aarch64 | OK | OK | OK | ||||||||||||||||||
| Package 19/31 | Hostname | OS / Arch | INSTALL | BUILD | CHECK | BUILD BIN | ||||||||||||||||
| nipalsMCIA 1.6.0  (landing page) Maximilian Mattessich 
 | nebbiolo1 | Linux (Ubuntu 24.04.3 LTS) / x86_64 | OK | OK | OK |  | ||||||||||||||||
| merida1 | macOS 12.7.6 Monterey / x86_64 | OK | OK | OK | OK |  | ||||||||||||||||
| kjohnson1 | macOS 13.7.5 Ventura / arm64 | OK | OK | OK | OK |  | ||||||||||||||||
| kunpeng2 | Linux (openEuler 24.03 LTS) / aarch64 | OK | ERROR | skipped | ||||||||||||||||||
| Package 20/31 | Hostname | OS / Arch | INSTALL | BUILD | CHECK | BUILD BIN | ||||||||||||||||
| omicsViewer 1.12.0  (landing page) Chen Meng 
 | nebbiolo1 | Linux (Ubuntu 24.04.3 LTS) / x86_64 | OK | OK | OK |  | ||||||||||||||||
| merida1 | macOS 12.7.6 Monterey / x86_64 | OK | OK | OK | OK |  | ||||||||||||||||
| kjohnson1 | macOS 13.7.5 Ventura / arm64 | OK | OK | OK | OK |  | ||||||||||||||||
| kunpeng2 | Linux (openEuler 24.03 LTS) / aarch64 | OK | OK | OK | ||||||||||||||||||
| Package 21/31 | Hostname | OS / Arch | INSTALL | BUILD | CHECK | BUILD BIN | ||||||||||||||||
| pairedGSEA 1.8.0  (landing page) Søren Helweg Dam 
 | nebbiolo1 | Linux (Ubuntu 24.04.3 LTS) / x86_64 | OK | OK | OK |  | ||||||||||||||||
| merida1 | macOS 12.7.6 Monterey / x86_64 | OK | OK | OK | OK |  | ||||||||||||||||
| kjohnson1 | macOS 13.7.5 Ventura / arm64 | OK | OK | OK | OK |  | ||||||||||||||||
| kunpeng2 | Linux (openEuler 24.03 LTS) / aarch64 | OK | OK | ERROR | ||||||||||||||||||
| Package 22/31 | Hostname | OS / Arch | INSTALL | BUILD | CHECK | BUILD BIN | ||||||||||||||||
| pathlinkR 1.4.0  (landing page) Travis Blimkie 
 | nebbiolo1 | Linux (Ubuntu 24.04.3 LTS) / x86_64 | OK | OK | OK |  | ||||||||||||||||
| merida1 | macOS 12.7.6 Monterey / x86_64 | OK | OK | OK | OK |  | ||||||||||||||||
| kjohnson1 | macOS 13.7.5 Ventura / arm64 | OK | OK | OK | OK |  | ||||||||||||||||
| kunpeng2 | Linux (openEuler 24.03 LTS) / aarch64 | OK | ERROR | skipped | ||||||||||||||||||
| Package 23/31 | Hostname | OS / Arch | INSTALL | BUILD | CHECK | BUILD BIN | ||||||||||||||||
| phantasus 1.28.0  (landing page) Alexey Sergushichev 
 | nebbiolo1 | Linux (Ubuntu 24.04.3 LTS) / x86_64 | OK | OK | OK |  | ||||||||||||||||
| merida1 | macOS 12.7.6 Monterey / x86_64 | OK | OK | OK | OK |  | ||||||||||||||||
| kjohnson1 | macOS 13.7.5 Ventura / arm64 | OK | OK | OK | OK |  | ||||||||||||||||
| kunpeng2 | Linux (openEuler 24.03 LTS) / aarch64 | OK | OK | OK | ||||||||||||||||||
| Package 24/31 | Hostname | OS / Arch | INSTALL | BUILD | CHECK | BUILD BIN | ||||||||||||||||
| piano 2.24.0  (landing page) Leif Varemo Wigge 
 | nebbiolo1 | Linux (Ubuntu 24.04.3 LTS) / x86_64 | OK | OK | OK |  | ||||||||||||||||
| merida1 | macOS 12.7.6 Monterey / x86_64 | OK | OK | OK | OK |  | ||||||||||||||||
| kjohnson1 | macOS 13.7.5 Ventura / arm64 | OK | OK | OK | OK |  | ||||||||||||||||
| kunpeng2 | Linux (openEuler 24.03 LTS) / aarch64 | OK | OK | ERROR | ||||||||||||||||||
| Package 25/31 | Hostname | OS / Arch | INSTALL | BUILD | CHECK | BUILD BIN | ||||||||||||||||
| POMA 1.18.0  (landing page) Pol Castellano-Escuder 
 | nebbiolo1 | Linux (Ubuntu 24.04.3 LTS) / x86_64 | OK | OK | OK |  | ||||||||||||||||
| merida1 | macOS 12.7.6 Monterey / x86_64 | OK | OK | OK | OK |  | ||||||||||||||||
| kjohnson1 | macOS 13.7.5 Ventura / arm64 | OK | OK | OK | OK |  | ||||||||||||||||
| kunpeng2 | Linux (openEuler 24.03 LTS) / aarch64 | OK | OK | OK | ||||||||||||||||||
| Package 26/31 | Hostname | OS / Arch | INSTALL | BUILD | CHECK | BUILD BIN | ||||||||||||||||
| PPInfer 1.34.0  (landing page) Dongmin Jung 
 | nebbiolo1 | Linux (Ubuntu 24.04.3 LTS) / x86_64 | OK | OK | OK |  | ||||||||||||||||
| merida1 | macOS 12.7.6 Monterey / x86_64 | OK | OK | OK | OK |  | ||||||||||||||||
| kjohnson1 | macOS 13.7.5 Ventura / arm64 | OK | OK | OK | OK |  | ||||||||||||||||
| kunpeng2 | Linux (openEuler 24.03 LTS) / aarch64 | OK | OK | OK | ||||||||||||||||||
| Package 27/31 | Hostname | OS / Arch | INSTALL | BUILD | CHECK | BUILD BIN | ||||||||||||||||
| projectR 1.24.0  (landing page) Genevieve Stein-O'Brien 
 | nebbiolo1 | Linux (Ubuntu 24.04.3 LTS) / x86_64 | OK | OK | OK |  | ||||||||||||||||
| merida1 | macOS 12.7.6 Monterey / x86_64 | OK | OK | OK | OK |  | ||||||||||||||||
| kjohnson1 | macOS 13.7.5 Ventura / arm64 | OK | OK | OK | OK |  | ||||||||||||||||
| kunpeng2 | Linux (openEuler 24.03 LTS) / aarch64 | OK | OK | OK | ||||||||||||||||||
| Package 28/31 | Hostname | OS / Arch | INSTALL | BUILD | CHECK | BUILD BIN | ||||||||||||||||
| RegEnrich 1.18.1  (landing page) Weiyang Tao 
 | nebbiolo1 | Linux (Ubuntu 24.04.3 LTS) / x86_64 | OK | OK | ERROR | |||||||||||||||||
| merida1 | macOS 12.7.6 Monterey / x86_64 | OK | OK | OK | OK |  | ||||||||||||||||
| kjohnson1 | macOS 13.7.5 Ventura / arm64 | OK | OK | OK | OK |  | ||||||||||||||||
| kunpeng2 | Linux (openEuler 24.03 LTS) / aarch64 | OK | ERROR | skipped | ||||||||||||||||||
| Package 29/31 | Hostname | OS / Arch | INSTALL | BUILD | CHECK | BUILD BIN | ||||||||||||||||
| RegionalST 1.6.0  (landing page) Ziyi Li 
 | nebbiolo1 | Linux (Ubuntu 24.04.3 LTS) / x86_64 | OK | OK | OK |  | ||||||||||||||||
| merida1 | macOS 12.7.6 Monterey / x86_64 | OK | OK | OK | OK |  | ||||||||||||||||
| kjohnson1 | macOS 13.7.5 Ventura / arm64 | OK | OK | OK | OK |  | ||||||||||||||||
| kunpeng2 | Linux (openEuler 24.03 LTS) / aarch64 | OK | OK | OK | ||||||||||||||||||
| Package 30/31 | Hostname | OS / Arch | INSTALL | BUILD | CHECK | BUILD BIN | ||||||||||||||||
| signatureSearch 1.22.0  (landing page) Brendan Gongol 
 | nebbiolo1 | Linux (Ubuntu 24.04.3 LTS) / x86_64 | OK | OK | OK |  | ||||||||||||||||
| merida1 | macOS 12.7.6 Monterey / x86_64 | OK | OK | OK | OK |  | ||||||||||||||||
| kjohnson1 | macOS 13.7.5 Ventura / arm64 | OK | OK | OK | OK |  | ||||||||||||||||
| kunpeng2 | Linux (openEuler 24.03 LTS) / aarch64 | OK | OK | TIMEOUT | ||||||||||||||||||
| Package 31/31 | Hostname | OS / Arch | INSTALL | BUILD | CHECK | BUILD BIN | ||||||||||||||||
| ViSEAGO 1.22.0  (landing page) Aurelien Brionne 
 | nebbiolo1 | Linux (Ubuntu 24.04.3 LTS) / x86_64 | OK | OK | WARNINGS |  | ||||||||||||||||
| merida1 | macOS 12.7.6 Monterey / x86_64 | OK | OK | WARNINGS | OK |  | ||||||||||||||||
| kjohnson1 | macOS 13.7.5 Ventura / arm64 | OK | OK | WARNINGS | OK |  | ||||||||||||||||
| kunpeng2 | Linux (openEuler 24.03 LTS) / aarch64 | OK | OK | NA | ||||||||||||||||||