Package: fedup Version: 1.14.0 Command: /home/biocbuild/R/R/bin/R CMD check --install=check:fedup.install-out.txt --library=/home/biocbuild/R/R/site-library --no-vignettes --timings fedup_1.14.0.tar.gz StartedAt: 2025-01-31 06:14:52 -0000 (Fri, 31 Jan 2025) EndedAt: 2025-01-31 06:18:54 -0000 (Fri, 31 Jan 2025) EllapsedTime: 242.3 seconds RetCode: 0 Status: OK CheckDir: fedup.Rcheck Warnings: 0