Package: fastseg Version: 1.52.0 Command: /home/biocbuild/R/R/bin/R CMD INSTALL fastseg StartedAt: 2025-01-30 20:19:22 -0000 (Thu, 30 Jan 2025) EndedAt: 2025-01-30 20:19:37 -0000 (Thu, 30 Jan 2025) EllapsedTime: 15.1 seconds RetCode: 0 Status: OK