Package: fastreeR Version: 1.12.5 Command: chmod a+r fastreeR -R && E:\biocbuild\bbs-3.21-bioc\R\bin\R.exe CMD build --keep-empty-dirs --no-resave-data fastreeR StartedAt: 2025-08-14 19:03:04 -0400 (Thu, 14 Aug 2025) EndedAt: 2025-08-14 19:06:10 -0400 (Thu, 14 Aug 2025) EllapsedTime: 186.5 seconds RetCode: 0 Status: OK PackageFile: fastreeR_1.12.5.tar.gz PackageFileSize: 2.74 MiB