Package: fastreeR Version: 1.12.5 Command: rm -rf fastreeR.buildbin-libdir && mkdir fastreeR.buildbin-libdir && E:\biocbuild\bbs-3.21-bioc\R\bin\R.exe CMD INSTALL --build --library=fastreeR.buildbin-libdir fastreeR_1.12.5.tar.gz StartedAt: 2025-08-15 09:17:02 -0400 (Fri, 15 Aug 2025) EndedAt: 2025-08-15 09:17:14 -0400 (Fri, 15 Aug 2025) EllapsedTime: 12.7 seconds RetCode: 0 Status: OK PackageFile: fastreeR_1.12.5.zip PackageFileSize: 2.789 MiB