Package: fastLiquidAssociation Version: 1.42.0 Command: /home/biocbuild/R/R/bin/R CMD build --keep-empty-dirs --no-resave-data fastLiquidAssociation StartedAt: 2025-02-03 23:33:36 -0000 (Mon, 03 Feb 2025) EndedAt: 2025-02-03 23:35:01 -0000 (Mon, 03 Feb 2025) EllapsedTime: 85.1 seconds RetCode: 0 Status: OK PackageFile: fastLiquidAssociation_1.42.0.tar.gz PackageFileSize: 735.1 KiB