Package: famat Version: 1.18.0 Command: /Library/Frameworks/R.framework/Resources/bin/R CMD build --keep-empty-dirs --no-resave-data famat StartedAt: 2025-04-21 16:19:57 -0400 (Mon, 21 Apr 2025) EndedAt: 2025-04-21 16:21:06 -0400 (Mon, 21 Apr 2025) EllapsedTime: 68.7 seconds RetCode: 0 Status: OK PackageFile: famat_1.18.0.tar.gz PackageFileSize: 3.919 MiB