Package: famat Version: 1.16.0 Command: /Library/Frameworks/R.framework/Resources/bin/R CMD build --keep-empty-dirs --no-resave-data famat StartedAt: 2025-01-30 23:34:04 -0500 (Thu, 30 Jan 2025) EndedAt: 2025-01-30 23:36:02 -0500 (Thu, 30 Jan 2025) EllapsedTime: 117.1 seconds RetCode: 1 Status: ERROR PackageFile: None PackageFileSize: NA