Package: factR Version: 1.8.0 Command: chmod a+r factR -R && F:\biocbuild\bbs-3.20-bioc\R\bin\R.exe CMD build --keep-empty-dirs --no-resave-data factR StartedAt: 2025-01-30 18:49:29 -0500 (Thu, 30 Jan 2025) EndedAt: 2025-01-30 18:53:14 -0500 (Thu, 30 Jan 2025) EllapsedTime: 224.3 seconds RetCode: 0 Status: OK PackageFile: factR_1.8.0.tar.gz PackageFileSize: 1.379 MiB