Package: factR Version: 1.10.0 Command: /Library/Frameworks/R.framework/Resources/bin/R CMD INSTALL factR StartedAt: 2025-05-01 16:06:12 -0400 (Thu, 01 May 2025) EndedAt: 2025-05-01 16:06:33 -0400 (Thu, 01 May 2025) EllapsedTime: 21.5 seconds RetCode: 0 Status: OK