Package: factR Version: 1.10.0 Command: /home/biocbuild/R/R/bin/R CMD INSTALL factR StartedAt: 2025-04-21 20:53:34 -0000 (Mon, 21 Apr 2025) EndedAt: 2025-04-21 20:53:47 -0000 (Mon, 21 Apr 2025) EllapsedTime: 13.0 seconds RetCode: 0 Status: OK